BEGIN:VCALENDAR
VERSION:2.0
PRODID:-//Town of Troy - ECPv6.15.17.1//NONSGML v1.0//EN
CALSCALE:GREGORIAN
METHOD:PUBLISH
X-ORIGINAL-URL:https://townoftroy.org
X-WR-CALDESC:Events for Town of Troy
REFRESH-INTERVAL;VALUE=DURATION:PT1H
X-Robots-Tag:noindex
X-PUBLISHED-TTL:PT1H
BEGIN:VTIMEZONE
TZID:America/Chicago
BEGIN:DAYLIGHT
TZOFFSETFROM:-0600
TZOFFSETTO:-0500
TZNAME:CDT
DTSTART:20200308T080000
END:DAYLIGHT
BEGIN:STANDARD
TZOFFSETFROM:-0500
TZOFFSETTO:-0600
TZNAME:CST
DTSTART:20201101T070000
END:STANDARD
BEGIN:DAYLIGHT
TZOFFSETFROM:-0600
TZOFFSETTO:-0500
TZNAME:CDT
DTSTART:20210314T080000
END:DAYLIGHT
BEGIN:STANDARD
TZOFFSETFROM:-0500
TZOFFSETTO:-0600
TZNAME:CST
DTSTART:20211107T070000
END:STANDARD
BEGIN:DAYLIGHT
TZOFFSETFROM:-0600
TZOFFSETTO:-0500
TZNAME:CDT
DTSTART:20220313T080000
END:DAYLIGHT
BEGIN:STANDARD
TZOFFSETFROM:-0500
TZOFFSETTO:-0600
TZNAME:CST
DTSTART:20221106T070000
END:STANDARD
BEGIN:DAYLIGHT
TZOFFSETFROM:-0600
TZOFFSETTO:-0500
TZNAME:CDT
DTSTART:20230312T080000
END:DAYLIGHT
BEGIN:STANDARD
TZOFFSETFROM:-0500
TZOFFSETTO:-0600
TZNAME:CST
DTSTART:20231105T070000
END:STANDARD
BEGIN:DAYLIGHT
TZOFFSETFROM:-0600
TZOFFSETTO:-0500
TZNAME:CDT
DTSTART:20240310T080000
END:DAYLIGHT
BEGIN:STANDARD
TZOFFSETFROM:-0500
TZOFFSETTO:-0600
TZNAME:CST
DTSTART:20241103T070000
END:STANDARD
BEGIN:DAYLIGHT
TZOFFSETFROM:-0600
TZOFFSETTO:-0500
TZNAME:CDT
DTSTART:20250309T080000
END:DAYLIGHT
BEGIN:STANDARD
TZOFFSETFROM:-0500
TZOFFSETTO:-0600
TZNAME:CST
DTSTART:20251102T070000
END:STANDARD
BEGIN:DAYLIGHT
TZOFFSETFROM:-0600
TZOFFSETTO:-0500
TZNAME:CDT
DTSTART:20260308T080000
END:DAYLIGHT
BEGIN:STANDARD
TZOFFSETFROM:-0500
TZOFFSETTO:-0600
TZNAME:CST
DTSTART:20261101T070000
END:STANDARD
END:VTIMEZONE
BEGIN:VEVENT
DTSTART;TZID=America/Chicago:20250415T190000
DTEND;TZID=America/Chicago:20250415T200000
DTSTAMP:20260419T084423
CREATED:20250328T141647Z
LAST-MODIFIED:20250328T141647Z
UID:10000623-1744743600-1744747200@townoftroy.org
SUMMARY:Annual Meeting
DESCRIPTION:
URL:https://townoftroy.org/event/annual-meeting-4/2025-04-15/
CATEGORIES:Annual Meeting
END:VEVENT
BEGIN:VEVENT
DTSTART;TZID=America/Chicago:20240416T190000
DTEND;TZID=America/Chicago:20240416T190000
DTSTAMP:20260419T084423
CREATED:20240416T144959Z
LAST-MODIFIED:20240416T144959Z
UID:10000498-1713294000-1713294000@townoftroy.org
SUMMARY:Annual Meeting
DESCRIPTION:
URL:https://townoftroy.org/event/annual-meeting-3/
CATEGORIES:Annual Meeting
END:VEVENT
BEGIN:VEVENT
DTSTART;TZID=America/Chicago:20230418T190000
DTEND;TZID=America/Chicago:20230418T190000
DTSTAMP:20260419T084423
CREATED:20230410T140721Z
LAST-MODIFIED:20230410T140721Z
UID:10000414-1681844400-1681844400@townoftroy.org
SUMMARY:2023 Annual Meeting
DESCRIPTION:The Town of Troy Annual Meeting of Electors will be held in person at the Troy Town Hall on Tuesday\, April 18\, 2023\, at 7pm.
URL:https://townoftroy.org/event/2023-annual-meeting/
CATEGORIES:Annual Meeting
END:VEVENT
BEGIN:VEVENT
DTSTART;TZID=America/Chicago:20221115T190000
DTEND;TZID=America/Chicago:20221115T200000
DTSTAMP:20260419T084423
CREATED:20220907T164614Z
LAST-MODIFIED:20220907T164614Z
UID:10000280-1668538800-1668542400@townoftroy.org
SUMMARY:Annual Budget Meeting
DESCRIPTION:
URL:https://townoftroy.org/event/annual-budget-meeting/
CATEGORIES:Annual Meeting
END:VEVENT
BEGIN:VEVENT
DTSTART;TZID=America/Chicago:20220419T190000
DTEND;TZID=America/Chicago:20220419T200000
DTSTAMP:20260419T084423
CREATED:20211220T160857Z
LAST-MODIFIED:20220208T171947Z
UID:10000354-1650394800-1650398400@townoftroy.org
SUMMARY:Annual Meeting
DESCRIPTION:
URL:https://townoftroy.org/event/annual-meeting-2/
CATEGORIES:Annual Meeting
END:VEVENT
BEGIN:VEVENT
DTSTART;TZID=America/Chicago:20211118T170000
DTEND;TZID=America/Chicago:20211118T180000
DTSTAMP:20260419T084423
CREATED:20211025T140305Z
LAST-MODIFIED:20211111T161802Z
UID:10000336-1637254800-1637258400@townoftroy.org
SUMMARY:Budget Hearing
DESCRIPTION:Topic: November Town Board Meeting \nPlease click the link below to join the webinar: \nhttps://us02web.zoom.us/j/84849267226 \nOr Telephone: \n    Dial: \n      (312) 626 6799   \nWebinar ID: 848 4926 7226
URL:https://townoftroy.org/event/budget-hearing-2/
CATEGORIES:Annual Meeting
END:VEVENT
BEGIN:VEVENT
DTSTART;TZID=America/Chicago:20211101T100000
DTEND;TZID=America/Chicago:20211101T110000
DTSTAMP:20260419T084423
CREATED:20211027T124837Z
LAST-MODIFIED:20211027T124837Z
UID:10000338-1635760800-1635764400@townoftroy.org
SUMMARY:Budget Workshop
DESCRIPTION:Meeting held via zoom and will have a quorum of the board to work on the 2022 budget.
URL:https://townoftroy.org/event/budget-workshop-2/
CATEGORIES:Annual Meeting
END:VEVENT
BEGIN:VEVENT
DTSTART;TZID=America/Chicago:20210420T190000
DTEND;TZID=America/Chicago:20210420T200000
DTSTAMP:20260419T084423
CREATED:20210218T170232Z
LAST-MODIFIED:20210419T170550Z
UID:10000301-1618945200-1618948800@townoftroy.org
SUMMARY:Town of Troy Annual Meeting
DESCRIPTION:Hybrid meeting is a possibility\, meaning you could attend at the town hall or via zoom. \n Topic: United Fund – Town of Troy & Town of Troy Annual Meeting \nTime: Apr 20\, 2021 06:30 PM Central Time (US and Canada) \n  \nJoin Zoom Meeting \nhttps://us02web.zoom.us/j/87210399936?pwd=WHorMVNnZUZaVFZFcTUrQ3dGVWNtdz09 \n  \nMeeting ID: 872 1039 9936 \nPasscode: Troy2021 \n  \nDial by your location \n         (312) 626 6799 \nMeeting ID: 872 1039 9936 \nPasscode: 47175279
URL:https://townoftroy.org/event/town-of-troy-annual-meeting/
CATEGORIES:Annual Meeting
END:VEVENT
BEGIN:VEVENT
DTSTART;TZID=America/Chicago:20210420T183000
DTEND;TZID=America/Chicago:20210420T190000
DTSTAMP:20260419T084423
CREATED:20210218T170314Z
LAST-MODIFIED:20210324T162108Z
UID:10000302-1618943400-1618945200@townoftroy.org
SUMMARY:United Fund of Troy
DESCRIPTION:  \nTown of Troy is inviting you to a scheduled Zoom meeting. \n Topic: United Fund – Town of Troy & Town of Troy Annual Meeting \nTime: Apr 20\, 2021 06:30 PM Central Time (US and Canada) \n  \nJoin Zoom Meeting \nhttps://us02web.zoom.us/j/87210399936?pwd=WHorMVNnZUZaVFZFcTUrQ3dGVWNtdz09 \n  \nMeeting ID: 872 1039 9936 \nPasscode: Troy2021 \nDial by your location \n        (312) 626-6799  \n 
URL:https://townoftroy.org/event/united-fund-of-troy-2/
CATEGORIES:Annual Meeting
END:VEVENT
END:VCALENDAR