BEGIN:VCALENDAR
VERSION:2.0
PRODID:-//Town of Troy - ECPv6.15.17.1//NONSGML v1.0//EN
CALSCALE:GREGORIAN
METHOD:PUBLISH
X-ORIGINAL-URL:https://townoftroy.org
X-WR-CALDESC:Events for Town of Troy
REFRESH-INTERVAL;VALUE=DURATION:PT1H
X-Robots-Tag:noindex
X-PUBLISHED-TTL:PT1H
BEGIN:VTIMEZONE
TZID:America/Chicago
BEGIN:DAYLIGHT
TZOFFSETFROM:-0600
TZOFFSETTO:-0500
TZNAME:CDT
DTSTART:20210314T080000
END:DAYLIGHT
BEGIN:STANDARD
TZOFFSETFROM:-0500
TZOFFSETTO:-0600
TZNAME:CST
DTSTART:20211107T070000
END:STANDARD
BEGIN:DAYLIGHT
TZOFFSETFROM:-0600
TZOFFSETTO:-0500
TZNAME:CDT
DTSTART:20220313T080000
END:DAYLIGHT
BEGIN:STANDARD
TZOFFSETFROM:-0500
TZOFFSETTO:-0600
TZNAME:CST
DTSTART:20221106T070000
END:STANDARD
BEGIN:DAYLIGHT
TZOFFSETFROM:-0600
TZOFFSETTO:-0500
TZNAME:CDT
DTSTART:20230312T080000
END:DAYLIGHT
BEGIN:STANDARD
TZOFFSETFROM:-0500
TZOFFSETTO:-0600
TZNAME:CST
DTSTART:20231105T070000
END:STANDARD
BEGIN:DAYLIGHT
TZOFFSETFROM:-0600
TZOFFSETTO:-0500
TZNAME:CDT
DTSTART:20240310T080000
END:DAYLIGHT
BEGIN:STANDARD
TZOFFSETFROM:-0500
TZOFFSETTO:-0600
TZNAME:CST
DTSTART:20241103T070000
END:STANDARD
BEGIN:DAYLIGHT
TZOFFSETFROM:-0600
TZOFFSETTO:-0500
TZNAME:CDT
DTSTART:20250309T080000
END:DAYLIGHT
BEGIN:STANDARD
TZOFFSETFROM:-0500
TZOFFSETTO:-0600
TZNAME:CST
DTSTART:20251102T070000
END:STANDARD
END:VTIMEZONE
BEGIN:VEVENT
DTSTART;VALUE=DATE:20241225
DTEND;VALUE=DATE:20241226
DTSTAMP:20260420T235413
CREATED:20231122T183908Z
LAST-MODIFIED:20231122T183908Z
UID:10000490-1735084800-1735171199@townoftroy.org
SUMMARY:Town Hall Closed - Christmas Day
DESCRIPTION:
URL:https://townoftroy.org/event/town-hall-closed-christmas-day/
CATEGORIES:Community Event
END:VEVENT
BEGIN:VEVENT
DTSTART;VALUE=DATE:20241224
DTEND;VALUE=DATE:20241225
DTSTAMP:20260420T235413
CREATED:20231122T183810Z
LAST-MODIFIED:20231122T183810Z
UID:10000489-1734998400-1735084799@townoftroy.org
SUMMARY:Recycling Center Closed - Christmas Eve Day
DESCRIPTION:
URL:https://townoftroy.org/event/recycling-center-closed-christmas-eve-day-2/
CATEGORIES:Community Event
END:VEVENT
BEGIN:VEVENT
DTSTART;VALUE=DATE:20241224
DTEND;VALUE=DATE:20241225
DTSTAMP:20260420T235413
CREATED:20231122T183744Z
LAST-MODIFIED:20231122T183744Z
UID:10000488-1734998400-1735084799@townoftroy.org
SUMMARY:Town Hall Closed - Christmas Eve
DESCRIPTION:
URL:https://townoftroy.org/event/town-hall-closed-christmas-eve/
CATEGORIES:Community Event
END:VEVENT
BEGIN:VEVENT
DTSTART;VALUE=DATE:20241128
DTEND;VALUE=DATE:20241129
DTSTAMP:20260420T235413
CREATED:20231122T183516Z
LAST-MODIFIED:20231122T183516Z
UID:10000485-1732752000-1732838399@townoftroy.org
SUMMARY:Recycling Center Closed - Thanksgiving Day
DESCRIPTION:
URL:https://townoftroy.org/event/recycling-center-closed-thanksgiving-day/
CATEGORIES:Community Event
END:VEVENT
BEGIN:VEVENT
DTSTART;VALUE=DATE:20241128
DTEND;VALUE=DATE:20241129
DTSTAMP:20260420T235413
CREATED:20231122T183444Z
LAST-MODIFIED:20231122T183444Z
UID:10000484-1732752000-1732838399@townoftroy.org
SUMMARY:Town Hall Closed - Thanksgiving Day
DESCRIPTION:
URL:https://townoftroy.org/event/town-hall-closed-thanksgiving-day/
CATEGORIES:Community Event
END:VEVENT
BEGIN:VEVENT
DTSTART;VALUE=DATE:20240902
DTEND;VALUE=DATE:20240903
DTSTAMP:20260420T235413
CREATED:20231122T182405Z
LAST-MODIFIED:20231122T182405Z
UID:10000474-1725235200-1725321599@townoftroy.org
SUMMARY:Town Hall Closed - Labor Day
DESCRIPTION:
URL:https://townoftroy.org/event/town-hall-closed-labor-day/
CATEGORIES:Community Event
END:VEVENT
BEGIN:VEVENT
DTSTART;VALUE=DATE:20240704
DTEND;VALUE=DATE:20240705
DTSTAMP:20260420T235413
CREATED:20231122T175203Z
LAST-MODIFIED:20231122T175203Z
UID:10000466-1720051200-1720137599@townoftroy.org
SUMMARY:Town Hall Closed - Independence Day
DESCRIPTION:
URL:https://townoftroy.org/event/town-hall-closed-independence-day/
CATEGORIES:Community Event
END:VEVENT
BEGIN:VEVENT
DTSTART;VALUE=DATE:20240527
DTEND;VALUE=DATE:20240528
DTSTAMP:20260420T235413
CREATED:20231122T174705Z
LAST-MODIFIED:20231122T174705Z
UID:10000462-1716768000-1716854399@townoftroy.org
SUMMARY:Town Hall Closed - Memorial Day Observance
DESCRIPTION:
URL:https://townoftroy.org/event/town-hall-closed-memorial-day-observance/
CATEGORIES:Community Event
END:VEVENT
BEGIN:VEVENT
DTSTART;VALUE=DATE:20240101
DTEND;VALUE=DATE:20240102
DTSTAMP:20260420T235413
CREATED:20231010T132913Z
LAST-MODIFIED:20231010T132913Z
UID:10000433-1704067200-1704153599@townoftroy.org
SUMMARY:New Years Day - All Offices Closed
DESCRIPTION:The Town of Troy Town Hall and Town Shop will be closed in observance of New Years Day.
URL:https://townoftroy.org/event/new-years-day-all-offices-closed/
CATEGORIES:Community Event
END:VEVENT
BEGIN:VEVENT
DTSTART;VALUE=DATE:20231225
DTEND;VALUE=DATE:20231226
DTSTAMP:20260420T235413
CREATED:20231010T132751Z
LAST-MODIFIED:20231010T132751Z
UID:10000432-1703462400-1703548799@townoftroy.org
SUMMARY:Christmas Day - All Town Offices Closed
DESCRIPTION:The Town of Troy Town Hall and Town Shop will be closed in observance of Christmas.
URL:https://townoftroy.org/event/christmas-day-all-town-offices-closed/
CATEGORIES:Community Event
END:VEVENT
BEGIN:VEVENT
DTSTART;VALUE=DATE:20231123
DTEND;VALUE=DATE:20231124
DTSTAMP:20260420T235413
CREATED:20231010T132336Z
LAST-MODIFIED:20231010T132336Z
UID:10000430-1700697600-1700783999@townoftroy.org
SUMMARY:Thanksgiving - All Town Offices Closed
DESCRIPTION:The Town of Troy Town Hall\, Town Shop\, and Recycling Center will be closed in observance of Thanksgiving. 
URL:https://townoftroy.org/event/thanksgiving-all-town-offices-closed/
CATEGORIES:Community Event
END:VEVENT
BEGIN:VEVENT
DTSTART;VALUE=DATE:20230904
DTEND;VALUE=DATE:20230905
DTSTAMP:20260420T235413
CREATED:20230503T184943Z
LAST-MODIFIED:20230503T184943Z
UID:10000417-1693785600-1693871999@townoftroy.org
SUMMARY:Town Hall Closed
DESCRIPTION:
URL:https://townoftroy.org/event/town-hall-closed/
CATEGORIES:Community Event
END:VEVENT
BEGIN:VEVENT
DTSTART;VALUE=DATE:20230704
DTEND;VALUE=DATE:20230705
DTSTAMP:20260420T235413
CREATED:20230222T191006Z
LAST-MODIFIED:20230222T191006Z
UID:10000411-1688428800-1688515199@townoftroy.org
SUMMARY:Office and Recycling Center Closed - Independence Day
DESCRIPTION:
URL:https://townoftroy.org/event/office-and-recycling-center-closed-independence-day/
CATEGORIES:Community Event
END:VEVENT
BEGIN:VEVENT
DTSTART;VALUE=DATE:20230529
DTEND;VALUE=DATE:20230530
DTSTAMP:20260420T235413
CREATED:20230222T190726Z
LAST-MODIFIED:20230222T190726Z
UID:10000408-1685318400-1685404799@townoftroy.org
SUMMARY:Office Closed - Memorial Day
DESCRIPTION:
URL:https://townoftroy.org/event/office-closed-memorial-day-2/
CATEGORIES:Community Event
END:VEVENT
BEGIN:VEVENT
DTSTART;VALUE=DATE:20230102
DTEND;VALUE=DATE:20230103
DTSTAMP:20260420T235413
CREATED:20220927T155519Z
LAST-MODIFIED:20220927T155519Z
UID:10000387-1672617600-1672703999@townoftroy.org
SUMMARY:Office Closed - New Years Observance
DESCRIPTION:
URL:https://townoftroy.org/event/office-closed-new-years-observance/
CATEGORIES:Community Event
END:VEVENT
BEGIN:VEVENT
DTSTART;VALUE=DATE:20221226
DTEND;VALUE=DATE:20221227
DTSTAMP:20260420T235413
CREATED:20220927T155333Z
LAST-MODIFIED:20220927T155333Z
UID:10000386-1672012800-1672099199@townoftroy.org
SUMMARY:Office Closed - Christmas Observance
DESCRIPTION:
URL:https://townoftroy.org/event/office-closed-christmas-observance/
CATEGORIES:Community Event
END:VEVENT
BEGIN:VEVENT
DTSTART;TZID=America/Chicago:20220821T100000
DTEND;TZID=America/Chicago:20220821T150000
DTSTAMP:20260420T235413
CREATED:20220816T170710Z
LAST-MODIFIED:20220816T170710Z
UID:10000274-1661076000-1661094000@townoftroy.org
SUMMARY:37th Annual St. Croix Valley Collectors Association Threshing Bee
DESCRIPTION:37th Annual Threshing Bee \n429 Townsvalley Rd\, Hudson\, WI 54016 \nPlease see flyer for more information
URL:https://townoftroy.org/event/37th-annual-st-croix-valley-collectors-association-threshing-bee/
CATEGORIES:Community Event
END:VEVENT
BEGIN:VEVENT
DTSTART;TZID=America/Chicago:20220820T100000
DTEND;TZID=America/Chicago:20220820T170000
DTSTAMP:20260420T235413
CREATED:20220816T165954Z
LAST-MODIFIED:20220816T165954Z
UID:10000381-1660989600-1661014800@townoftroy.org
SUMMARY:Carpenter Nature Center Art Festival
DESCRIPTION:Music – Art – Food – Drinks \nBeautiful Scenery – Live Animals \nParticipating artists donate a portion of their proceeds to support Carpenter Nature Center. \nLocated at  –  \nCarpenter Nature Center WI Campus\, 300 East Cove Road\, Hudson\, WI 54016 \nEvent held rain or shine \nPlease visit www.carpenternaturecenter.org or call 651-437-4359 for more information.
URL:https://townoftroy.org/event/carpenter-nature-center-art-festival/
CATEGORIES:Community Event
END:VEVENT
END:VCALENDAR